Workbook
Name 業種リスト: #REF!
Name 結果選択肢: #REF!

Sheet チェックリスト
A7: 作業列 | B7: 通し 番号 | E7: チェック項目 | F7: 結果 (取組状況) | G7: 優先度 (実施時期) | H7: 解説集 のページ
A8: 1 | D8: Ⅰ | E8: 高年齢者の安全衛生 管理編
A9: 1.1 | D9: 1 | E9: 高年齢者の安全衛生の総括管理
A10: 1.2 | D10: （１） | E10: 基本方針の表明
A11: 1.3 | B11: 1 | D11: 1 | E11: 経営トップ自らが、高年齢者の対策を盛り込んだ安全衛生対策の方針を表明する。 | F11: 選択してください | G11: 選択してください | H11: P25
A12: 2.2 | D12: （２） | E12: 高年齢者の安全衛生対策の推進体制の整備等
A13: 2.3 | B13: 2 | D13: 1 | E13: 高年齢者の安全衛生対策に取り組む組織や担当者を指定する。 | F13: 選択してください | G13: 選択してください | H13: P26
A14: 2.3 | B14: 3 | D14: 2 | E14: 高年齢者の労働災害防止について、安全衛生委員会等において調査審議するなど労使で話し合う。 | F14: 選択してください | G14: 選択してください | H14: P27
A15: 2.3 | B15: 4 | D15: 3 | E15: 高年齢者の健康管理にあたって、産業保健体制（産業医、保健師・看護師等）を整備するとともに、地域産業保健センター等を活用する。 | F15: 選択してください | G15: 選択してください | H15: P28
A16: 2.3 | B16: 5 | D16: 4 | E16: 加齢に伴う心身機能の変化による労働災害発生リスクに対応するため、リスクアセスメントを行う。 | F16: 選択してください | G16: 選択してください | H16: P29
A17: 2.3 | B17: 6 | D17: 5 | E17: 高年齢者の対策を盛り込んだ安全衛生推進計画を策定し、実施・評価・改善のPDCAサイクルを回す。 | F17: 選択してください | G17: 選択してください | H17: P33
A18: 2.3 | B18: 7 | D18: 6 | E18: 高年齢者が、労働災害の発生リスクや働く上での負担、自身の不調があると考える場合に、相談しやすい体制を整備し、必要に応じて、作業内容や作業方法の変更、作業時間の見直し等を行う。 | F18: 選択してください | G18: 選択してください | H18: P34
A19: 3.1 | D19: ２ | E19: 高年齢者の作業管理
A20: 3.2 | D20: （１） | E20: 作業内容の調整や作業開始前の準備体操
A21: 3.3 | B21: 8 | D21: 1 | E21: 高年齢者の心身機能には個人差が大きいことを踏まえて、個々人の状況に応じて、作業負荷が大きすぎないように、作業内容をきめ細かく調整する。 | F21: 選択してください | G21: 選択してください | H21: P35
A22: 3.3 | B22: 9 | D22: 2 | E22: 作業開始前に、季節や作業に応じた準備体操やストレッチを行い、からだを十分にほぐしてから作業に着手できるようにする。 | F22: 選択してください | G22: 選択してください | H22: P36
A23: 4.2 | D23: （２） | E23: 作業負荷の軽減
A24: 4.3 | B24: 10 | D24: 1 | E24: 強い筋力を要する作業や長時間にわたって筋力を使用する作業を減らす。 | F24: 選択してください | G24: 選択してください | H24: P37
A25: 4.3 | B25: 11 | D25: 2 | E25: 呼吸が乱れるような速い動作を伴う作業や瞬時の判断を必要とする作業をなくすとともに、緊急の場合でも、過度な作業負荷がかからないようにする。 | F25: 選択してください | G25: 選択してください | H25: P38
A26: 5.2 | D26: （３） | E26: 作業ペースや作業量のコントロール
A27: 5.3 | B27: 12 | D27: 1 | E27: 担当する作業の量や到達点を事前に明示するほか、自らの作業の進捗状況を確認できるようにする。 | F27: 選択してください | G27: 選択してください | H27: P39
A28: 5.3 | B28: 13 | D28: 2 | E28: 作業負荷が大きくなりすぎないように、作業ペースや作業量が個々人に合ったものとなるよう調整する。 | F28: 選択してください | G28: 選択してください | H28: P40
A29: 6.2 | D29: （４） | E29: 休憩・休止
A30: 6.3 | B30: 14 | D30: 1 | E30: 休憩時間のほかに、トイレに行くための時間や作業の休止時間を取ることができるようにする。 | F30: 選択してください | G30: 選択してください | H30: P41
A31: 6.3 | B31: 15 | D31: 2 | E31: 高度な注意力や集中力を必要とする作業の継続時間が、長くなりすぎないようにする。 | F31: 選択してください | G31: 選択してください | H31: P42
A32: 6.3 | B32: 16 | D32: 3 | E32: 疲労やストレスを効果的に癒すことができる休憩室、シャワー室、相談室、運動施設等を設置する。 | F32: 選択してください | G32: 選択してください | H32: P43
A33: 7.1 | D33: ３ | E33: 高年齢者の作業環境管理
A34: 7.2 | D34: （１） | E34: 視覚環境の整備
A35: 7.3 | B35: 17 | D35: 1 | E35: 書面・ディスプレイ（表示画面）、掲示物等の文字の大きさや色合いは、見やすくなるように工夫する。 | F35: 選択してください | G35: 選択してください | H35: P44
A36: 7.3 | B36: 18 | D36: 2 | E36: 手元や文字が見やすくなるように、職場の明るさを確保する。 | F36: 選択してください | G36: 選択してください | H36: P45
A37: 7.3 | B37: 19 | D37: 3 | E37: 近い距離での細かい作業を避けて、見やすくなるように、作業者と作業対象物との距離を調整する。 | F37: 選択してください | G37: 選択してください | H37: P46
A38: 7.3 | B38: 20 | D38: 4 | E38: 警報音が聞きとりにくい場合は、視覚表示（回転灯、タワーランプ等）などを併用する。 | F38: 選択してください | G38: 選択してください | H38: P47
A39: 8.2 | D39: （２） | E39: 聴覚環境の整備
A40: 8.3 | B40: 21 | D40: 1 | E40: 警報音等は聞き取りやすい中低音域の音に設定し、音源の向き等に配慮する。 | F40: 選択してください | G40: 選択してください | H40: P48
A41: 8.3 | B41: 22 | D41: 2 | E41: 会話を妨げる背景騒音の音量を小さくし、会話を聞き取りやすくする。 | F41: 選択してください | G41: 選択してください | H41: P49
A42: 9.2 | D42: （３） | E42: 寒冷環境への対応
A43: 9.3 | B43: 23 | D43: 1 | E43: 寒冷環境に長時間さらされないように、作業計画を立てる。 | F43: 選択してください | G43: 選択してください | H43: P50
A44: 9.3 | B44: 24 | D44: 2 | E44: 寒冷環境下での作業を開始する前に、からだを温めるための準備運動を行うとともに、作業時は、保温性のある防寒具（服装、手袋、帽子、靴等）を着用させる。 | F44: 選択してください | G44: 選択してください | H44: P51
A45: 10.1 | D45: ４ | E45: 高年齢者の健康管理
A46: 10.2 | D46: （１） | E46: 健康状態の把握
A47: 10.3 | B47: 25 | D47: 1 | E47: 法定の健康診断を確実に実施する。定年退職後に再雇用された短時間勤務者等で法定健診の対象外となる者についても、事業場の実情に応じ健康診断を実施する。 | F47: 選択してください | G47: 選択してください | H47: P52
A48: 10.3 | B48: 26 | D48: 2 | E48: 健康診断結果を高年齢者に通知する際、産業保健スタッフから丁寧に説明する等により自らの健康状況を把握できるようにするとともに、産業医や保健師等に相談できる環境を整える。 | F48: 選択してください | G48: 選択してください | H48: P53
A49: 10.3 | B49: 27 | D49: 3 | E49: 高年齢者を対象として体力チェック等を継続的に行う。 | F49: 選択してください | G49: 選択してください | H49: P54
A50: 10.3 | B50: 28 | D50: 4 | E50: 体力チェックの対象に青年期・壮年期の者を含める。 | F50: 選択してください | G50: 選択してください | H50: P55
A51: 10.3 | B51: 29 | D51: 5 | E51: 体力チェック等の目的を働く人に丁寧に説明するとともに、その手法・評価基準を設ける場合は、安全衛生委員会等の審議を踏まえて作成する。 | F51: 選択してください | G51: 選択してください | H51: P56
A52: 10.3 | B52: 30 | D52: 6 | E52: けがをしにくい身体づくりのため、運動プログラムの導入、筋トレ・ストレッチ等の運動指導等、高年齢者の体力の維持向上に取り組む。 | F52: 選択してください | G52: 選択してください | H52: P57
A53: 10.3 | B53: 31 | D53: 7 | E53: 持病があったり、体調不良の高年齢者も見られること等を踏まえて、きめ細かな健康管理を行う。 | F53: 選択してください | G53: 選択してください | H53: P58
A54: 10.3 | B54: 32 | D54: 8 | E54: 健康診断や体力チェック等の結果について、産業医等の意見を聴き、必要がある場合には、作業時間の短縮、作業内容の変更等の就業上の措置を行う。 | F54: 選択してください | G54: 選択してください | H54: P59
A55: 10.3 | B55: 33 | D55: 9 | E55: 所見のある健康診断結果を踏まえて、医師等から意見を聴取する際には、医師等が判断を行うに当たって必要となる本人の就業状況に関する情報（作業時間、作業内容等）を的確に提供する。 | F55: 選択してください | G55: 選択してください | H55: P60
A56: 10.3 | B56: 34 | D56: 10 | E56: 業務の軽減等の就業上の措置を行う場合、高年齢者に状況を確認し、十分な話し合いを通じて本人の了解が得られるようにする。 | F56: 選択してください | G56: 選択してください | H56: P61
A57: 10.3 | B57: 35 | D57: 11 | E57: 健康や体力の状況は加齢により個人差が拡大するため、個々の状況に応じて適合する業務を高年齢者とマッチングさせるよう努める。 | F57: 選択してください | G57: 選択してください | H57: P62
A58: 10.3 | B58: 36 | D58: 12 | E58: 保健指導や健康相談等においては、健康診断の有所見の状況やその経年的な変化に応じて、必要となる具体的な取組内容（運動、休養・睡眠、食事、節度ある飲酒、禁煙、口腔衛生等）を紹介する。 | F58: 選択してください | G58: 選択してください | H58: P63
... A62: 10.3 | B62: 40 | D62: 16 | E62: 体調不良等の場合に、職場で休養できる部屋を確保するとともに、必要な時すぐに医療機関等を受診できる体制を整備する。 | F62: 選択してください | G62: 選択してください | H62: P67
A63: 11.2 | D63: （２） | E63: メンタルヘルスケア
A64: 11.3 | B64: 41 | D64: 1 | E64: 高年齢者の特性（職場における役割の変化、病気・体調不良、睡眠の質の低下等に伴うストレスの増加やストレス耐性の低下等）を踏まえたメンタルヘルスケアを行う。 | F64: 選択してください | G64: 選択してください | H64: P68
A65: 11.3 | B65: 42 | D65: 2 | E65: 高年齢者や管理監督者に対して、メンタルヘルスケアについての研修や情報提供を行う。 | F65: 選択してください | G65: 選択してください | H65: P69
A66: 11.3 | B66: 43 | D66: 3 | E66: メンタルヘルスの相談窓口を設置するなど相談しやすい環境を整備する。 | F66: 選択してください | G66: 選択してください | H66: P70
A67: 11.3 | B67: 44 | D67: 4 | E67: ストレスチェックを実施し、自分自身のストレスへの気づきを促すとともに、職場のストレス要因の改善につなげることで、メンタルヘルス不調の未然防止を図る。 | F67: 選択してください | G67: 選択してください | H67: P71
A68: 12.2 | D68: （３） | E68: がんの教育と検診
A69: 12.3 | B69: 45 | D69: 1 | E69: がんについての理解を促す健康教育を行うとともに、がん予防につながる生活習慣の改善（禁煙等）の指導を行う。 | F69: 選択してください | G69: 選択してください | H69: P72
A70: 12.3 | B70: 46 | D70: 2 | E70: 職場でのがん検診の実施、または健康保険組合や市町村によるがん検診の受診勧奨を行い、要精密検査対象者に対する確実な受診を指導する。 | F70: 選択してください | G70: 選択してください | H70: P73
A71: 13.1 | D71: ５ | E71: 高年齢者に対する安全衛生教育
A72: 13.2 | D72: （１） | E72: 安全衛生教育の確実な実施
A73: 13.3 | B73: 47 | D73: 1 | E73: 法令で定められた安全衛生教育を確実に実施する。 | F73: 選択してください | G73: 選択してください | H73: P74
A74: 13.3 | B74: 48 | D74: 2 | E74: 保護具等は必ず着用させる。 | F74: 選択してください | G74: 選択してください | H74: P75
A75: 14.2 | D75: （２） | E75: 加齢に伴う身体・精神機能の変化に対応するための安全衛生教育
A76: 14.3 | B76: 49 | D76: 1 | E76: 加齢に伴う心身機能の変化が労働災害発生リスクを高める実態について教育を行い、自己管理の意識向上、体力維持、および生活習慣の改善を促す。 | F76: 選択してください | G76: 選択してください | H76: P76
A77: 15.2 | D77: （３） | E77: 教育・指導の実施に当たっての高年齢者の特性への配慮
A78: 15.3 | B78: 50 | D78: 1 | E78: 「ベテランだから大丈夫」という先入観を持たず、十分な時間をかけて、写真や図、映像等の情報も活用し、教育・指導を行う。 | F78: 選択してください | G78: 選択してください | H78: P78
A79: 16.1 | D79: ６ | E79: 高年齢者の勤務条件
A80: 16.2 | D80: （１） | E80: 配置・勤務形態・労働時間
A81: 16.3 | B81: 51 | D81: 1 | E81: 高年齢者の職場における役割を明確にするとともに、円滑に適応できる体制・環境を整備する。 | F81: 選択してください | G81: 選択してください | H81: P79
A82: 16.3 | B82: 52 | D82: 2 | E82: 高年齢者の心身機能、健康状態を踏まえて、安全や健康の確保ができる職務配置を行う。 | F82: 選択してください | G82: 選択してください | H82: P80
A83: 16.3 | B83: 53 | D83: 3 | E83: 高年齢者の知識と経験を生かして活躍できるような、職場の風土づくりを行う。 | F83: 選択してください | G83: 選択してください | H83: P81
A84: 16.3 | B84: 54 | D84: 4 | E84: 高年齢者が、働きやすい柔軟な勤務制度・休暇制度を利用できる。 | F84: 選択してください | G84: 選択してください | H84: P82
A85: 16.3 | B85: 55 | D85: 5 | E85: できる限り夜勤を避けるとともに、夜勤をさせる場合には、心身の負担を軽減するように夜勤シフトや休日を調整する。 | F85: 選択してください | G85: 選択してください | H85: P83
A86: 17.2 | D86: （２） | E86: 治療と仕事との両立支援
A87: 17.3 | B87: 56 | D87: 1 | E87: 病気を抱える者が、治療をしながら安心して働き続けられるよう支援するため、本人からの相談に応じ、適切に対応できる体制・環境を整備し、必要な配慮等を行う。 | F87: 選択してください | G87: 選択してください | H87: P84
A88: 17.3 | B88: 57 | D88: 2 | E88: 休職した場合に円滑に職場復帰できるプログラムを定めている。 | F88: 選択してください | G88: 選択してください | H88: P85
A89: 18.1 | D89: ７ | E89: 高齢期に健康で安全に働くことができるようにするための若年時からの準備（エイジ・マネジメント）
A90: 18.2 | D90: （１） | E90: 健康づくりの支援
A91: 18.3 | B91: 58 | D91: 1 | E91: 高齢期になっても元気に働くことができるように、若年時から、運動指導、生活習慣指導等（休養・睡眠、食事、節度ある飲酒、禁煙等）の健康教育、口腔衛生等の健康づくりの支援を行う。 | F91: 選択してください | G91: 選択してください | H91: P86
A92: 18.3 | B92: 59 | D92: 2 | E92: 年齢に関わらずヘルスリテラシー（健康や医療に対する正しい情報を入手し、理解・活用できる能力）向上のための情報提供を行う。 | F92: 選択してください | G92: 選択してください | H92: P87
A93: 19.2 | D93: （２） | E93: 女性特有の健康上の課題（月経困難症、過多月経症、月経前症候群、乳がん・子宮がん、更年期障害、骨粗しょう症、プレコンセプションケア等） についての支援
A94: 19.3 | B94: 60 | D94: 1 | E94: 月経困難症、過多月経症、月経前症候群や更年期障害についての理解を促す健康教育を行うとともに、本人から就業上の配慮の申し出があった場合は、必要な配慮を行う。 | F94: 選択してください | G94: 選択してください | H94: P88
A95: 19.3 | B95: 61 | D95: 2 | E95: 乳がんや子宮がんについて、職場でのがん検診の実施、健康保険組合等や市町村が実施するがん検診の受診を勧奨するとともに、健康教育を行う。 | F95: 選択してください | G95: 選択してください | H95: P89
A96: 19.3 | B96: 63 | D96: 3 | E96: 若年時から、骨粗しょう症（更年期以降の予防）についての健康教育を行うとともに、極端なダイエットの防止等の食事指導や運動習慣づくりの支援を行う。 | F96: 選択してください | G96: 選択してください | H96: P90
A97: 20.2 | D97: （３） | E97: 長時間労働の抑制やワーク・ライフ・バランスの確保
A98: 20.3 | B98: 63 | D98: 1 | E98: 仕事により心身の健康を害することのないように、若年時から、長時間労働の抑制やワーク・ライフ・バランスの確保を行う。 | F98: 選択してください | G98: 選択してください | H98: P91
A99: 21.2 | D99: （４） | E99: キャリア形成の支援
A100: 21.3 | B100: 64 | D100: 1 | E100: 若年時から、高齢期までを見据えたキャリア形成の支援を行うとともに、高齢期を迎える前に、今後のキャリアについて考える機会を提供する。 | F100: 選択してください | G100: 選択してください | H100: P92
A102: 22 | D102: Ⅱ | E102: 高年齢者に多発する労働災害の防止 対策編 | F102: すべての業種 | G102: ←業種別の重点項目は ここから選んでください | J102: − 業種を選択してください − | K102: すべての業種 | L102: 製造業現場 | M102: 建設業 | N102: 陸上貨物運送事業 | O102: 小売業 | P102: 飲食店 | Q102: 医療保健・社会福祉施設 | R102: 金融・教育研究業
A103: 22.2 | D103: （１） | E103: 転倒防止 | K103: 1 | L103: 1 | M103: 1 | N103: 1 | O103: 1 | P103: 1 | Q103: 1 | R103: 1
A104: 22.3 | B104: 65 | D104: 1 | E104: 通路に十分な幅を確保する。 | F104: 選択してください | G104: 選択してください | H104: P93 | K104: 1 | L104: 1 | M104: 1 | N104: 1 | O104: 1 | P104: 1 | Q104: 1 | R104: 1
A105: 22.3 | B105: 66 | D105: 2 | E105: 床、通路、階段、出入口には物を放置せず、転倒の原因は取り除く。 | F105: 選択してください | G105: 選択してください | H105: P94 | K105: 1 | L105: 1 | M105: 1 | N105: 1 | O105: 1 | P105: 1 | Q105: 1 | R105: 1
A106: 22.3 | B106: 67 | D106: 3 | E106: 足元の電気配線やケーブルはまとめる。 | F106: 選択してください | G106: 選択してください | H106: P95 | K106: 1 | L106: 1 | M106: 1 | N106: 1 | O106: 1 | P106: 1 | Q106: 1 | R106: 1
A107: 22.3 | B107: 68 | D107: 4 | E107: 階段・通路、作業場所に十分な明るさ（照度）を確保する。 | F107: 選択してください | G107: 選択してください | H107: P96 | K107: 1 | L107: 1 | M107: 1 | N107: 1 | O107: 1 | P107: 1 | Q107: 1 | R107: 1
A108: 22.3 | B108: 69 | D108: 5 | E108: 階段には手すりを設け、通路の段差を解消する。 | F108: 選択してください | G108: 選択してください | H108: P97 | K108: 1 | L108: 1 | M108: 1 | N108: 1 | O108: 1 | P108: 1 | Q108: 1 | R108: 1
A109: 22.3 | B109: 70 | D109: 6 | E109: 床や通路の滑りやすい箇所に、防滑床材、防滑グレーチング、すべり止めを設ける。 | F109: 選択してください | G109: 選択してください | H109: P98 | K109: 1 | L109: 1 | M109: 1 | N109: 1 | O109: 1 | P109: 1 | Q109: 1 | R109: 1
A110: 22.3 | B110: 71 | D110: 7 | E110: 作業現場の環境に合わせ、耐滑性があり、つまずきにくい作業靴を着用させる。 | F110: 選択してください | G110: 選択してください | H110: P99 | K110: 1 | L110: 1 | M110: 1 | N110: 1 | O110: 1 | P110: 1 | Q110: 1 | R110: 1
...

Sheet 取組達成率
B1: Ⅰ 管理編
A2: 1 | D2: 項目数 | E2: 達成数 | F2: 達成率 | G2: 未達成率
A3: 1.1 | B3: １ 高年齢者の安全衛生の総括管理 | D3: =COUNTIFS(チェックリスト!F9:F18, "<>", チェックリスト!F9:F18, "<>対象外") -> 7 | E3: =COUNTIF(チェックリスト!F9:F18, "ほぼできている") -> 0 | F3: =E3/D3 -> 0 | G3: =1-F3 -> 1
A4: 3.1 | B4: ２ 高年齢者の作業管理 | D4: =COUNTIFS(チェックリスト!F19:F32, "<>", チェックリスト!F19:F32, "<>対象外") -> 9 | E4: =COUNTIF(チェックリスト!F19:F32, "ほぼできている") -> 0 | F4: =E4/D4 -> 0 | G4: =1-F4 -> 1
A5: 7.1 | B5: ３ 高年齢者の作業環境管理 | D5: =COUNTIFS(チェックリスト!F33:F44, "<>", チェックリスト!F33:F44, "<>対象外") -> 8 | E5: =COUNTIF(チェックリスト!F33:F44, "ほぼできている") -> 0 | F5: =E5/D5 -> 0 | G5: =1-F5 -> 1
A6: 10.1 | B6: ４ 高年齢者の健康管理 | D6: =COUNTIFS(チェックリスト!F45:F70, "<>", チェックリスト!F45:F70, "<>対象外") -> 22 | E6: =COUNTIF(チェックリスト!F45:F70, "ほぼできている") -> 0 | F6: =E6/D6 -> 0 | G6: =1-F6 -> 1
A7: 13.1 | B7: ５ 高年齢者に対する安全衛生教育 | D7: =COUNTIFS(チェックリスト!F71:F78, "<>", チェックリスト!F71:F78, "<>対象外") -> 4 | E7: =COUNTIF(チェックリスト!F71:F78, "ほぼできている") -> 0 | F7: =E7/D7 -> 0 | G7: =1-F7 -> 1
A8: 16.1 | B8: ６ 高年齢者の勤務条件 | D8: =COUNTIFS(チェックリスト!F79:F88, "<>", チェックリスト!F79:F88, "<>対象外") -> 7 | E8: =COUNTIF(チェックリスト!F79:F88, "ほぼできている") -> 0 | F8: =E8/D8 -> 0 | G8: =1-F8 -> 1
A9: 18.1 | B9: ７ エイジ・マネジメント | D9: =COUNTIFS(チェックリスト!F89:F100, "<>", チェックリスト!F89:F100, "<>対象外") -> 7 | E9: =COUNTIF(チェックリスト!F89:F100, "ほぼできている") -> 0 | F9: =E9/D9 -> 0 | G9: =1-F9 -> 1
B28: Ⅱ 高齢者に多発する労働災害の防止対策編
A29: 22 | D29: 項目数 | E29: 達成数 | F29: 達成率 | G29: 未達成率
A30: 22.2 | B30: （１）転倒防止 | D30: =COUNTIFS(チェックリスト!F103:F115, "<>", チェックリスト!F103:F115, "<>対象外") -> 12 | E30: =COUNTIF(チェックリスト!F103:F115, "ほぼできている") -> 0 | F30: =E30/D30 -> 0 | G30: =1-F30 -> 1
A31: 23.2 | B31: （２）墜落・転落防止 | D31: =COUNTIFS(チェックリスト!F116:F122, "<>", チェックリスト!F116:F122, "<>対象外") -> 6 | E31: =COUNTIF(チェックリスト!F116:F122, "ほぼできている") -> 0 | F31: =E31/D31 -> 0 | G31: =1-F31 -> 1
A32: 24.2 | B32: （３）腰痛予防 | D32: =COUNTIFS(チェックリスト!F123:F132, "<>", チェックリスト!F123:F132, "<>対象外") -> 9 | E32: =COUNTIF(チェックリスト!F123:F132, "ほぼできている") -> 0 | F32: =E32/D32 -> 0 | G32: =1-F32 -> 1
A33: 25.2 | B33: （４）はさまれ・巻き込まれ防止 | D33: =COUNTIFS(チェックリスト!F133:F141, "<>", チェックリスト!F133:F141, "<>対象外") -> 8 | E33: =COUNTIF(チェックリスト!F133:F141, "ほぼできている") -> 0 | F33: =E33/D33 -> 0 | G33: =1-F33 -> 1
A34: 26.2 | B34: （５）交通労働災害防止 | D34: =COUNTIFS(チェックリスト!F142:F151, "<>", チェックリスト!F142:F151, "<>対象外") -> 9 | E34: =COUNTIF(チェックリスト!F142:F151, "ほぼできている") -> 0 | F34: =E34/D34 -> 0 | G34: =1-F34 -> 1
A35: 27.2 | B35: （６）熱中症予防 | D35: =COUNTIFS(チェックリスト!F152:F164, "<>", チェックリスト!F152:F164, "<>対象外") -> 12 | E35: =COUNTIF(チェックリスト!F152:F164, "ほぼできている") -> 0 | F35: =E35/D35 -> 0 | G35: =1-F35 -> 1
