Workbook
Name 業種リスト: #REF!
Name 結果選択肢: #REF!

Sheet チェックリスト
A7: 作業列 | B7: 通し 番号 | E7: チェック項目 | F7: 結果 (取組状況) | G7: 優先度 (実施時期) | H7: 解説集 のページ
A8: 1 | D8: Ⅰ | E8: 高年齢者の安全衛生 管理編
A9: 1.1 | D9: 1 | E9: 高年齢者の安全衛生の総括管理
A10: 1.2 | D10: （１） | E10: 基本方針の表明
A11: 1.3 | B11: 1 | D11: 1 | E11: 経営トップ自らが、高年齢者の対策を盛り込んだ安全衛生対策の方針を表明する。 | F11: 選択してください | G11: 選択してください | H11: P25
A12: 2.2 | D12: （２） | E12: 高年齢者の安全衛生対策の推進体制の整備等
A13: 2.3 | B13: 2 | D13: 1 | E13: 高年齢者の安全衛生対策に取り組む組織や担当者を指定する。 | F13: 選択してください | G13: 選択してください | H13: P26
A14: 2.3 | B14: 3 | D14: 2 | E14: 高年齢者の労働災害防止について、安全衛生委員会等において調査審議するなど労使で話し合う。 | F14: 選択してください | G14: 選択してください | H14: P27
A15: 2.3 | B15: 4 | D15: 3 | E15: 高年齢者の健康管理にあたって、産業保健体制（産業医、保健師・看護師等）を整備するとともに、地域産業保健センター等を活用する。 | F15: 選択してください | G15: 選択してください | H15: P28
A16: 2.3 | B16: 5 | D16: 4 | E16: 加齢に伴う心身機能の変化による労働災害発生リスクに対応するため、リスクアセスメントを行う。 | F16: 選択してください | G16: 選択してください | H16: P29
A17: 2.3 | B17: 6 | D17: 5 | E17: 高年齢者の対策を盛り込んだ安全衛生推進計画を策定し、実施・評価・改善のPDCAサイクルを回す。 | F17: 選択してください | G17: 選択してください | H17: P33
A18: 2.3 | B18: 7 | D18: 6 | E18: 高年齢者が、労働災害の発生リスクや働く上での負担、自身の不調があると考える場合に、相談しやすい体制を整備し、必要に応じて、作業内容や作業方法の変更、作業時間の見直し等を行う。 | F18: 選択してください | G18: 選択してください | H18: P34
A19: 3.1 | D19: ２ | E19: 高年齢者の作業管理
A20: 3.2 | D20: （１） | E20: 作業内容の調整や作業開始前の準備体操
A21: 3.3 | B21: 8 | D21: 1 | E21: 高年齢者の心身機能には個人差が大きいことを踏まえて、個々人の状況に応じて、作業負荷が大きすぎないように、作業内容をきめ細かく調整する。 | F21: 選択してください | G21: 選択してください | H21: P35
A22: 3.3 | B22: 9 | D22: 2 | E22: 作業開始前に、季節や作業に応じた準備体操やストレッチを行い、からだを十分にほぐしてから作業に着手できるようにする。 | F22: 選択してください | G22: 選択してください | H22: P36
A23: 4.2 | D23: （２） | E23: 作業負荷の軽減
A24: 4.3 | B24: 10 | D24: 1 | E24: 強い筋力を要する作業や長時間にわたって筋力を使用する作業を減らす。 | F24: 選択してください | G24: 選択してください | H24: P37
A25: 4.3 | B25: 11 | D25: 2 | E25: 呼吸が乱れるような速い動作を伴う作業や瞬時の判断を必要とする作業をなくすとともに、緊急の場合でも、過度な作業負荷がかからないようにする。 | F25: 選択してください | G25: 選択してください | H25: P38
A26: 5.2 | D26: （３） | E26: 作業ペースや作業量のコントロール
A27: 5.3 | B27: 12 | D27: 1 | E27: 担当する作業の量や到達点を事前に明示するほか、自らの作業の進捗状況を確認できるようにする。 | F27: 選択してください | G27: 選択してください | H27: P39
A28: 5.3 | B28: 13 | D28: 2 | E28: 作業負荷が大きくなりすぎないように、作業ペースや作業量が個々人に合ったものとなるよう調整する。 | F28: 選択してください | G28: 選択してください | H28: P40
A29: 6.2 | D29: （４） | E29: 休憩・休止
A30: 6.3 | B30: 14 | D30: 1 | E30: 休憩時間のほかに、トイレに行くための時間や作業の休止時間を取ることができるようにする。 | F30: 選択してください | G30: 選択してください | H30: P41
A31: 6.3 | B31: 15 | D31: 2 | E31: 高度な注意力や集中力を必要とする作業の継続時間が、長くなりすぎないようにする。 | F31: 選択してください | G31: 選択してください | H31: P42
A32: 6.3 | B32: 16 | D32: 3 | E32: 疲労やストレスを効果的に癒すことができる休憩室、シャワー室、相談室、運動施設等を設置する。 | F32: 選択してください | G32: 選択してください | H32: P43
A33: 7.1 | D33: ３ | E33: 高年齢者の作業環境管理
A34: 7.2 | D34: （１） | E34: 視覚環境の整備
A35: 7.3 | B35: 17 | D35: 1 | E35: 書面・ディスプレイ（表示画面）、掲示物等の文字の大きさや色合いは、見やすくなるように工夫する。 | F35: 選択してください | G35: 選択してください | H35: P44
A36: 7.3 | B36: 18 | D36: 2 | E36: 手元や文字が見やすくなるように、職場の明るさを確保する。 | F36: 選択してください | G36: 選択してください | H36: P45
A37: 7.3 | B37: 19 | D37: 3 | E37: 近い距離での細かい作業を避けて、見やすくなるように、作業者と作業対象物との距離を調整する。 | F37: 選択してください | G37: 選択してください | H37: P46
A38: 7.3 | B38: 20 | D38: 4 | E38: 警報音が聞きとりにくい場合は、視覚表示（回転灯、タワーランプ等）などを併用する。 | F38: 選択してください | G38: 選択してください | H38: P47
A39: 8.2 | D39: （２） | E39: 聴覚環境の整備
A40: 8.3 | B40: 21 | D40: 1 | E40: 警報音等は聞き取りやすい中低音域の音に設定し、音源の向き等に配慮する。 | F40: 選択してください | G40: 選択してください | H40: P48
A41: 8.3 | B41: 22 | D41: 2 | E41: 会話を妨げる背景騒音の音量を小さくし、会話を聞き取りやすくする。 | F41: 選択してください | G41: 選択してください | H41: P49
A42: 9.2 | D42: （３） | E42: 寒冷環境への対応
A43: 9.3 | B43: 23 | D43: 1 | E43: 寒冷環境に長時間さらされないように、作業計画を立てる。 | F43: 選択してください | G43: 選択してください | H43: P50
A44: 9.3 | B44: 24 | D44: 2 | E44: 寒冷環境下での作業を開始する前に、からだを温めるための準備運動を行うとともに、作業時は、保温性のある防寒具（服装、手袋、帽子、靴等）を着用させる。 | F44: 選択してください | G44: 選択してください | H44: P51
A45: 10.1 | D45: ４ | E45: 高年齢者の健康管理
A46: 10.2 | D46: （１） | E46: 健康状態の把握
...

Sheet 取組達成率
B1: Ⅰ 管理編
A2: 1 | D2: 項目数 | E2: 達成数 | F2: 達成率 | G2: 未達成率
A3: 1.1 | B3: １ 高年齢者の安全衛生の総括管理 | D3: =COUNTIFS(チェックリスト!F9:F18, "<>", チェックリスト!F9:F18, "<>対象外") -> 7 | E3: =COUNTIF(チェックリスト!F9:F18, "ほぼできている") -> 0 | F3: =E3/D3 -> 0 | G3: =1-F3 -> 1
A4: 3.1 | B4: ２ 高年齢者の作業管理 | D4: =COUNTIFS(チェックリスト!F19:F32, "<>", チェックリスト!F19:F32, "<>対象外") -> 9 | E4: =COUNTIF(チェックリスト!F19:F32, "ほぼできている") -> 0 | F4: =E4/D4 -> 0 | G4: =1-F4 -> 1
A5: 7.1 | B5: ３ 高年齢者の作業環境管理 | D5: =COUNTIFS(チェックリスト!F33:F44, "<>", チェックリスト!F33:F44, "<>対象外") -> 8 | E5: =COUNTIF(チェックリスト!F33:F44, "ほぼできている") -> 0 | F5: =E5/D5 -> 0 | G5: =1-F5 -> 1
A6: 10.1 | B6: ４ 高年齢者の健康管理 | D6: =COUNTIFS(チェックリスト!F45:F70, "<>", チェックリスト!F45:F70, "<>対象外") -> 22 | E6: =COUNTIF(チェックリスト!F45:F70, "ほぼできている") -> 0 | F6: =E6/D6 -> 0 | G6: =1-F6 -> 1
A7: 13.1 | B7: ５ 高年齢者に対する安全衛生教育 | D7: =COUNTIFS(チェックリスト!F71:F78, "<>", チェックリスト!F71:F78, "<>対象外") -> 4 | E7: =COUNTIF(チェックリスト!F71:F78, "ほぼできている") -> 0 | F7: =E7/D7 -> 0 | G7: =1-F7 -> 1
A8: 16.1 | B8: ６ 高年齢者の勤務条件 | D8: =COUNTIFS(チェックリスト!F79:F88, "<>", チェックリスト!F79:F88, "<>対象外") -> 7 | E8: =COUNTIF(チェックリスト!F79:F88, "ほぼできている") -> 0 | F8: =E8/D8 -> 0 | G8: =1-F8 -> 1
A9: 18.1 | B9: ７ エイジ・マネジメント | D9: =COUNTIFS(チェックリスト!F89:F100, "<>", チェックリスト!F89:F100, "<>対象外") -> 7 | E9: =COUNTIF(チェックリスト!F89:F100, "ほぼできている") -> 0 | F9: =E9/D9 -> 0 | G9: =1-F9 -> 1
B28: Ⅱ 高齢者に多発する労働災害の防止対策編
A29: 22 | D29: 項目数 | E29: 達成数 | F29: 達成率 | G29: 未達成率
A30: 22.2 | B30: （１）転倒防止 | D30: =COUNTIFS(チェックリスト!F103:F115, "<>", チェックリスト!F103:F115, "<>対象外") -> 12 | E30: =COUNTIF(チェックリスト!F103:F115, "ほぼできている") -> 0 | F30: =E30/D30 -> 0 | G30: =1-F30 -> 1
A31: 23.2 | B31: （２）墜落・転落防止 | D31: =COUNTIFS(チェックリスト!F116:F122, "<>", チェックリスト!F116:F122, "<>対象外") -> 6 | E31: =COUNTIF(チェックリスト!F116:F122, "ほぼできている") -> 0 | F31: =E31/D31 -> 0 | G31: =1-F31 -> 1
A32: 24.2 | B32: （３）腰痛予防 | D32: =COUNTIFS(チェックリスト!F123:F132, "<>", チェックリスト!F123:F132, "<>対象外") -> 9 | E32: =COUNTIF(チェックリスト!F123:F132, "ほぼできている") -> 0 | F32: =E32/D32 -> 0 | G32: =1-F32 -> 1
A33: 25.2 | B33: （４）はさまれ・巻き込まれ防止 | D33: =COUNTIFS(チェックリスト!F133:F141, "<>", チェックリスト!F133:F141, "<>対象外") -> 8 | E33: =COUNTIF(チェックリスト!F133:F141, "ほぼできている") -> 0 | F33: =E33/D33 -> 0 | G33: =1-F33 -> 1
A34: 26.2 | B34: （５）交通労働災害防止 | D34: =COUNTIFS(チェックリスト!F142:F151, "<>", チェックリスト!F142:F151, "<>対象外") -> 9 | E34: =COUNTIF(チェックリスト!F142:F151, "ほぼできている") -> 0 | F34: =E34/D34 -> 0 | G34: =1-F34 -> 1
A35: 27.2 | B35: （６）熱中症予防 | D35: =COUNTIFS(チェックリスト!F152:F164, "<>", チェックリスト!F152:F164, "<>対象外") -> 12 | E35: =COUNTIF(チェックリスト!F152:F164, "ほぼできている") -> 0 | F35: =E35/D35 -> 0 | G35: =1-F35 -> 1
